BEGIN:VCALENDAR
VERSION:2.0
PRODID:-//Samkennd - ECPv6.15.20//NONSGML v1.0//EN
CALSCALE:GREGORIAN
METHOD:PUBLISH
X-WR-CALNAME:Samkennd
X-ORIGINAL-URL:https://samkennd.is
X-WR-CALDESC:Events for Samkennd
REFRESH-INTERVAL;VALUE=DURATION:PT1H
X-Robots-Tag:noindex
X-PUBLISHED-TTL:PT1H
BEGIN:VTIMEZONE
TZID:Atlantic/Reykjavik
BEGIN:STANDARD
TZOFFSETFROM:+0000
TZOFFSETTO:+0000
TZNAME:GMT
DTSTART:20240101T000000
END:STANDARD
END:VTIMEZONE
BEGIN:VEVENT
DTSTART;TZID=Atlantic/Reykjavik:20250116T083000
DTEND;TZID=Atlantic/Reykjavik:20250116T123000
DTSTAMP:20260422T224830
CREATED:20241213T134937Z
LAST-MODIFIED:20241215T160607Z
UID:10000127-1737016200-1737030600@samkennd.is
SUMMARY:Skilvirki leiðtoginn\, umbótahugsun í lífi og starfi - Hefst 16. janúar
DESCRIPTION:Skilvirki leiðtoginn\, umbótahugsun í lífi og starfi \n  \nFyrir þá vilja ná meiri skilvirkni í lífi og starfi með því að nota heildræna umbótahugsun sem fyrirtæki hafa verið að nýta sér í fjölmörg ár.  \nMeðal þess sem kennt er:\n* Stefnumótun – hvað er mikilvægt fyrir þig\, fjölskylduna eða fyrirtækið\n* Jafnvægis demanturinn og lífshjólið\n* Einföldum og bætum nærumhverfið með 5S aðferðafræðinni\n* Betri yfirsýn yfir verkefni og aðgerðir með töflum og öðrum skipulags verkfærum\n* Forgangsröðun fyrir hámarks skilvirkni – vinnum að réttum verkefnum ekki hraðar\n* Hagnýtar æfingar í núvitund til þess að minnka streitu \nMikil sjálfsvinna og greining er á námskeiðinu. Í lok námskeiðs er lagt upp með að þátttakendur hafi öðlast ný viðhorf gagnvart umbótahugsun ásamt fjölda tóla og tækja sem hægt er að nýta strax í einkalífi eða starfi. \nLeiðbeinendur\nMaríanna Magnúsdóttir og Viktoría Jensdóttir eru báðar verkfræðingar og hafa verið að kenna\, veita ráðgjöf og nota umbótahugsun í lífi og starfi í yfir 15 ár. Þær brenna fyrir því að kenna fyrirtækjum og einstaklingum hvernig er hægt að ná árangri í takt við þá stefnu sem þau hafa sett sér. \nNámskeiðið er haldið í tveimur hlutum:\nLota 1: Fimmudaginn 16.janúar 8:30-12:30\nLota 2: Fimmtudaginn 23. janúar 8:30-12:30\nhaldið í Samkennd heilsusetri\, Tunguhálsi 19\, 110 Reykjavík \nVerð: 49.500kr\nAthugið – mörg stettarfélög niðurgreiða námskeið að hluta eða fullu. \nSkráning hér.
URL:https://samkennd.is/event/skilvirki-leidtoginn-umbotahugsun-jan2025/
CATEGORIES:Námskeið
ATTACH;FMTTYPE=image/png:https://samkennd.is/wp-content/uploads/2024/12/Skilvirki-leidtoginn-800-x-400-px.png
ORGANIZER;CN="Mar%C3%ADanna Magn%C3%BAsd%C3%B3ttir":MAILTO:marianna@improvement.is
END:VEVENT
END:VCALENDAR