BEGIN:VCALENDAR
VERSION:2.0
PRODID:-//Samkennd - ECPv6.15.20//NONSGML v1.0//EN
CALSCALE:GREGORIAN
METHOD:PUBLISH
X-ORIGINAL-URL:https://samkennd.is
X-WR-CALDESC:Events for Samkennd
REFRESH-INTERVAL;VALUE=DURATION:PT1H
X-Robots-Tag:noindex
X-PUBLISHED-TTL:PT1H
BEGIN:VTIMEZONE
TZID:Atlantic/Reykjavik
BEGIN:STANDARD
TZOFFSETFROM:+0000
TZOFFSETTO:+0000
TZNAME:GMT
DTSTART:20240101T000000
END:STANDARD
END:VTIMEZONE
BEGIN:VEVENT
DTSTART;TZID=Atlantic/Reykjavik:20250813T130000
DTEND;TZID=Atlantic/Reykjavik:20250813T150000
DTSTAMP:20260423T051656
CREATED:20250513T131926Z
LAST-MODIFIED:20250805T121918Z
UID:10000138-1755090000-1755097200@samkennd.is
SUMMARY:Gott jafnvægi - námskeið um streitustjórnun - Hefst 13. ágúst
DESCRIPTION:Gott jafnvægi – námskeið um streitustjórnun \nSex vikna námskeið hefst miðvikudaginn 13. ágúst og stendur í 6 vikur.\nTímasetning: kl 13:00 – 15:00\n \nViltu skilja streitu betur og kunna leiðir sem virka fyrir þig til þess að minnka streitu í þínu lífi og hugsa betur um þig en jafnframt ná meiri árangri í lífi og starfi? \nViltu skilja sjálfa þig betur og hvernig þú vilt eyða dögunum þínum? Þetta segja þeir sem hafa sótt námskeiðið: \n“Andrúmsloftið var hlýlegt og afslappað og gott að koma upp í Samkennd.” \n“Á heildina litið fannst mér námskeiðið vera mjög gagnlegt og ég mæli eindregið með því fyrir alla sem vilja skilja streitu betur og læra hvernig er hægt að stjórna henni.” \n“Lydía er augljóslega að tala bæði af reynslu og mikilli fagþekkingu og miðlar efninu til þátttakenda á fyrirhafnarlausan og þægilegan hátt.” \nHentar:\nÖllum sem upplifa einkenni of mikillar streitu og vilja læra leiðir til þess að finna betra jafnvægi. \nHvar:\nNámskeiðið verður haldið í notalegum sal Samkenndar-heilsuseturs að Tunguhálsi 19. \nHvenær:\nEinu sinni í viku í 6 vikur í 2 klst í senn. \nMarkmið:\nAð þátttakendur skilji betur langvarandi streitu og afleiðingar hennar. \nAð þátttakendur læri leiðir sem virka fyrir þá til þess að minnka streitu í sínu lífi\, að hlúa betur að sér og öðlast betra jafnvægi. En á sama tíma að ná betri árangri í lífi og starfi. \nAð þátttakendur skilji sjálfa sig betur og hvernig þeir vilja lifa lífinu. \nDagskrá námskeiðs: \n\nStreita og afleiðingar langvarandi streitu.\nAðferðir við streitustjórnun og að komast í gott jafnvægi\nGrundvallaratriði hugrænnar atferlismeðferðar og taugakerfið\nGrunnþarfir og tilfinningar\nSjálfsmynd\, samkennd og núvitund\nHver er ég og hver er mín framtíðarsýn?\n\nKostnaður:\nKostnaðurinn við þátttöku er 79.000 kr. Athugið að flest stéttarfélög niðurgreiða námskeiðið. Einnig geta atvinnuleysisbótaþegar sótt um greiðsluþátttöku hjá Vinnumálastofnun. Við hvetjum fólk til að kanna sinn rétt til endurgreiðslu. \nLeiðbeinandi:\nLydía Ósk Ómarsdóttir\, sálfræðingur. \nLydía hefur persónulega reynslu af að vinna sig út úr miklu streituástandi þegar hún var óvinnufær í næstum tvö ár vegna kulnunar. Nú sinnir hún sálfræðimeðferð hjá Samkennd-heilsusetri þar sem hún hjálpar fólki að minnka streitu og finna betra jafnvægi og betri líðan. \nSendu póst á lydia@samkennd.is ef þú vilt vera með eða hefur frekari spurningar.
URL:https://samkennd.is/event/gott-jafnvaegi-streitustjornun-agust-2025/
CATEGORIES:Námskeið
ATTACH;FMTTYPE=image/jpeg:https://samkennd.is/wp-content/uploads/2024/04/Gott-jafnvaegi.jpeg
ORGANIZER;CN="Lyd%C3%ADa %C3%93sk %C3%93marsd%C3%B3ttir":MAILTO:lydia@samkennd.is
END:VEVENT
BEGIN:VEVENT
DTSTART;TZID=Atlantic/Reykjavik:20250825T164500
DTEND;TZID=Atlantic/Reykjavik:20250825T174500
DTSTAMP:20260423T051656
CREATED:20250613T100923Z
LAST-MODIFIED:20250613T101019Z
UID:10000145-1756140300-1756143900@samkennd.is
SUMMARY:Orkuflæði - Mán & mið - Hefst 25. ágúst
DESCRIPTION:Orkuflæði á mánudögum og miðvikudögum \nNæsta námskeið:\nHefst 25. ágúst á mánudögum og miðvikudögum í samtals 8 skipti til 17. september. \nTímasetning\nKl: 16:45 – 17:45 \nNámskeiðið er fjölbreytt jóganámskeið þar sem margar tegundir jóga fá pláss. Sumir tímar eru rólegir og mjúkir\, aðrir eru kröftugir og í flæði. Grunnurinn byggist á hatha jógastöðunum en oft er kröftugum æfingum spilað inn í og jafnvel æfingum sem ýta okkur aðeins út fyrir boxið og fá okkur stundum til að brosa og hafa húmor fyrir okkur sjálfum. Slökun í lok hvers tíma. Hér færðu að minnsta kosti einn yin jóga tíma og ávallt er einn tími námskeiðsins jóga nidra djúpslökun. \nLeiðbeinandi\nHildur Rut Björnsdóttir jógakennari og jóga nidra leiðbeinandi \n​Verð \n1 tímabil – 8 skipti – á 24.900\,- kr.\n3ja mánaða binding á 65.000\,- kr. \nSkráning\nSkráning fer fram í gegnum tölvupóst á jogatilthin@gmail.com
URL:https://samkennd.is/event/orkuflaedi-man-mid-hefst-25agust/
CATEGORIES:Hreyfing og slökun,Námskeið
ATTACH;FMTTYPE=image/jpeg:https://samkennd.is/wp-content/uploads/2024/12/Okruflaedi-joganamskeid.jpg
ORGANIZER;CN="Hildur Rut Bj%C3%B6rnsdottir":MAILTO:jogatilthin@samkennd.is
END:VEVENT
END:VCALENDAR